BEGIN:VCALENDAR
VERSION:2.0
PRODID:-//Kutsekoda - ECPv6.15.20//NONSGML v1.0//EN
CALSCALE:GREGORIAN
METHOD:PUBLISH
X-ORIGINAL-URL:https://kutsekoda.ee
X-WR-CALDESC:Events for Kutsekoda
REFRESH-INTERVAL;VALUE=DURATION:PT1H
X-Robots-Tag:noindex
X-PUBLISHED-TTL:PT1H
BEGIN:VTIMEZONE
TZID:Europe/Helsinki
BEGIN:DAYLIGHT
TZOFFSETFROM:+0200
TZOFFSETTO:+0300
TZNAME:EEST
DTSTART:20250330T010000
END:DAYLIGHT
BEGIN:STANDARD
TZOFFSETFROM:+0300
TZOFFSETTO:+0200
TZNAME:EET
DTSTART:20251026T010000
END:STANDARD
BEGIN:DAYLIGHT
TZOFFSETFROM:+0200
TZOFFSETTO:+0300
TZNAME:EEST
DTSTART:20260329T010000
END:DAYLIGHT
BEGIN:STANDARD
TZOFFSETFROM:+0300
TZOFFSETTO:+0200
TZNAME:EET
DTSTART:20261025T010000
END:STANDARD
BEGIN:DAYLIGHT
TZOFFSETFROM:+0200
TZOFFSETTO:+0300
TZNAME:EEST
DTSTART:20270328T010000
END:DAYLIGHT
BEGIN:STANDARD
TZOFFSETFROM:+0300
TZOFFSETTO:+0200
TZNAME:EET
DTSTART:20271031T010000
END:STANDARD
END:VTIMEZONE
BEGIN:VEVENT
DTSTART;TZID=Europe/Helsinki:20260416T140000
DTEND;TZID=Europe/Helsinki:20260416T160000
DTSTAMP:20260420T090333
CREATED:20260330T133552Z
LAST-MODIFIED:20260330T133552Z
UID:10000507-1776348000-1776355200@kutsekoda.ee
SUMMARY:Transpordi ja logistika kutsenõukogu koosolek
DESCRIPTION:
URL:https://kutsekoda.ee/event/transpordi-ja-logistika-kutsenoukogu-koosolek/
CATEGORIES:Kutsenõukogu
END:VEVENT
BEGIN:VEVENT
DTSTART;TZID=Europe/Helsinki:20260409T150000
DTEND;TZID=Europe/Helsinki:20260409T170000
DTSTAMP:20260420T090333
CREATED:20260330T133457Z
LAST-MODIFIED:20260330T133457Z
UID:10000506-1775746800-1775754000@kutsekoda.ee
SUMMARY:Tehnika\, tootmise ja töötlemise kutsenõukogu koosolek
DESCRIPTION:
URL:https://kutsekoda.ee/event/tehnika-tootmise-ja-tootlemise-kutsenoukogu-koosolek/
CATEGORIES:Kutsenõukogu
END:VEVENT
BEGIN:VEVENT
DTSTART;TZID=Europe/Helsinki:20260408T140000
DTEND;TZID=Europe/Helsinki:20260408T160000
DTSTAMP:20260420T090333
CREATED:20260330T133359Z
LAST-MODIFIED:20260330T133359Z
UID:10000505-1775656800-1775664000@kutsekoda.ee
SUMMARY:Vara- ja isikukaitse kutsenõukogu koosolek
DESCRIPTION:
URL:https://kutsekoda.ee/event/vara-ja-isikukaitse-kutsenoukogu-koosolek/
CATEGORIES:Kutsenõukogu
END:VEVENT
BEGIN:VEVENT
DTSTART;TZID=Europe/Helsinki:20260401T140000
DTEND;TZID=Europe/Helsinki:20260401T160000
DTSTAMP:20260420T090333
CREATED:20260330T133258Z
LAST-MODIFIED:20260330T134235Z
UID:10000504-1775052000-1775059200@kutsekoda.ee
SUMMARY:Kultuuri kutsenõukogu koosolek
DESCRIPTION:
URL:https://kutsekoda.ee/event/kultuuri-kutsenoukogu/
CATEGORIES:Kutsenõukogu
END:VEVENT
END:VCALENDAR